BEGIN:VCALENDAR
VERSION:2.0
PRODID:-//wp-events-plugin.com//7.2.3.1//EN
TZID:America/New_York
X-WR-TIMEZONE:America/New_York
BEGIN:VEVENT
UID:20@gasociety.org
DTSTART;TZID=America/New_York:20250301T180000
DTEND;TZID=America/New_York:20250301T230000
DTSTAMP:20250108T190238Z
URL:https://gasociety.org/events/2025-gak-dinner-dance-hof/
SUMMARY:2025 GAK Dinner-Dance/HOF
DESCRIPTION:Welcome to the annual GAK Dinner Dance and GAK Hall of Fame ind
 uction ceremony. The event features dinner buffet\, cash bar\, entertainme
 nt by DJ Franz\, Tricky Tray and GAK HOF Awards ceremony.\n\nTickets are $
 45 each. Families of GAK players can purchase their tickets through their 
 individual GAK team managers/coaches. All others call (609)284 -5059 or se
 nd email to fcgak1992@gmail.com to reserve your tickets or if you have any
  questions.\n\n&nbsp\;
ATTACH;FMTTYPE=image/jpeg:https://gasociety.org/wp-content/uploads/Gak-log
 o.png
LOCATION:German-American Society of Trenton\, NJ\, 215 Uncle Pete's Road\, 
 Trenton\, NJ\, 08691\, United States
X-APPLE-STRUCTURED-LOCATION;VALUE=URI;X-ADDRESS=215 Uncle Pete's Road\, Tre
 nton\, NJ\, 08691\, United States;X-APPLE-RADIUS=100;X-TITLE=German-Americ
 an Society of Trenton\, NJ:geo:0,0
END:VEVENT
BEGIN:VTIMEZONE
TZID:America/New_York
X-LIC-LOCATION:America/New_York
BEGIN:STANDARD
DTSTART:20241103T010000
TZOFFSETFROM:-0400
TZOFFSETTO:-0500
TZNAME:EST
END:STANDARD
END:VTIMEZONE
END:VCALENDAR